BEGIN:VCALENDAR
VERSION:2.0
PRODID:icalendar-ruby
CALSCALE:GREGORIAN
METHOD:PUBLISH
BEGIN:VEVENT
DTSTAMP:20260423T151404Z
UID:5-1060673@branielchurch.com
DTSTART:20261101T110000Z
DTEND:20261101T120000Z
CLASS:PUBLIC
CREATED:20260423T154942
DESCRIPTION:Sunday Worship
LAST-MODIFIED:20260423T154942
LOCATION:
SUMMARY:Sunday Worship
URL;VALUE=URI:https://www.branielchurch.com/events/sunday-worship/2026-11-0
 1
END:VEVENT
END:VCALENDAR
