BEGIN:VCALENDAR
VERSION:2.0
PRODID:icalendar-ruby
CALSCALE:GREGORIAN
METHOD:PUBLISH
BEGIN:VEVENT
DTSTAMP:20260423T133517Z
UID:5-1060293@branielchurch.com
DTSTART:20261025T110000Z
DTEND:20261025T120000Z
CLASS:PUBLIC
CREATED:20260423T125635
DESCRIPTION:Sunday Worship
LAST-MODIFIED:20260423T125635
LOCATION:
SUMMARY:Sunday Worship
URL;VALUE=URI:https://www.branielchurch.com/events/sunday-worship/2026-10-2
 5
END:VEVENT
END:VCALENDAR
