BEGIN:VCALENDAR
VERSION:2.0
PRODID:icalendar-ruby
CALSCALE:GREGORIAN
METHOD:PUBLISH
BEGIN:VEVENT
DTSTAMP:20260423T101322Z
UID:5-1059912@branielchurch.com
DTSTART:20261011T100000Z
DTEND:20261011T110000Z
CLASS:PUBLIC
CREATED:20260423T032634
DESCRIPTION:Sunday Worship
LAST-MODIFIED:20260423T032634
LOCATION:
SUMMARY:Sunday Worship
URL;VALUE=URI:https://www.branielchurch.com/events/sunday-worship/2026-10-1
 1
END:VEVENT
END:VCALENDAR
