BEGIN:VCALENDAR
VERSION:2.0
PRODID:icalendar-ruby
CALSCALE:GREGORIAN
METHOD:PUBLISH
BEGIN:VEVENT
DTSTAMP:20260423T040033Z
UID:5-1059908@branielchurch.com
DTSTART:20260913T100000Z
DTEND:20260913T110000Z
CLASS:PUBLIC
CREATED:20260423T032634
DESCRIPTION:Sunday Worship
LAST-MODIFIED:20260423T032634
LOCATION:
SUMMARY:Sunday Worship
URL;VALUE=URI:https://www.branielchurch.com/events/sunday-worship/2026-09-1
 3
END:VEVENT
END:VCALENDAR
