BEGIN:VCALENDAR
VERSION:2.0
PRODID:icalendar-ruby
CALSCALE:GREGORIAN
METHOD:PUBLISH
BEGIN:VEVENT
DTSTAMP:20260423T003241Z
UID:5-1059527@branielchurch.com
DTSTART:20260830T100000Z
DTEND:20260830T110000Z
CLASS:PUBLIC
CREATED:20260423T003312
DESCRIPTION:Sunday Worship
LAST-MODIFIED:20260423T003312
LOCATION:
SUMMARY:Sunday Worship
URL;VALUE=URI:https://www.branielchurch.com/events/sunday-worship/2026-08-3
 0
END:VEVENT
END:VCALENDAR
