BEGIN:VCALENDAR
VERSION:2.0
PRODID:icalendar-ruby
CALSCALE:GREGORIAN
METHOD:PUBLISH
BEGIN:VEVENT
DTSTAMP:20260422T225243Z
UID:5-1059147@branielchurch.com
DTSTART:20260823T100000Z
DTEND:20260823T110000Z
CLASS:PUBLIC
CREATED:20260422T214053
DESCRIPTION:Sunday Worship
LAST-MODIFIED:20260422T214053
LOCATION:
SUMMARY:Sunday Worship
URL;VALUE=URI:https://www.branielchurch.com/events/sunday-worship/2026-08-2
 3
END:VEVENT
END:VCALENDAR
